BEGIN:VCALENDAR
VERSION:2.0
PRODID:-//CACHS - ECPv6.15.20//NONSGML v1.0//EN
CALSCALE:GREGORIAN
METHOD:PUBLISH
X-WR-CALNAME:CACHS
X-ORIGINAL-URL:https://www.cachs.org
X-WR-CALDESC:Events for CACHS
REFRESH-INTERVAL;VALUE=DURATION:PT1H
X-Robots-Tag:noindex
X-PUBLISHED-TTL:PT1H
BEGIN:VTIMEZONE
TZID:UTC
BEGIN:STANDARD
TZOFFSETFROM:+0000
TZOFFSETTO:+0000
TZNAME:UTC
DTSTART:20220101T000000
END:STANDARD
END:VTIMEZONE
BEGIN:VEVENT
DTSTART;TZID=UTC:20230716T180000
DTEND;TZID=UTC:20230716T190000
DTSTAMP:20260419T160549
CREATED:20230619T195156Z
LAST-MODIFIED:20230627T185047Z
UID:17239-1689530400-1689534000@www.cachs.org
SUMMARY:亚太裔月特别活动 ：青少年心理健康亚太裔家长在线讨论会，5月18日晚6-7点
DESCRIPTION:此专题活动由马里兰州蒙哥马利郡卫生局亚裔美国人健康促进协会（AAHI）和大华府社区健康服务中心（CACHS）联合举办。旨在帮助亚太裔家长应对日趋严重的青少年心理健康问题。将由来自麻省总医院、国家儿童医学中心和Sheppard Pratt精神医疗中心的三位资深亚裔儿童精神科医生做对话嘉宾。讨论话题将主要涉及如何在家庭内部讨论精神心理健康话题、了解儿童焦虑和抑郁的指征、讨论帮助孩子促进心理健康的方法等。由于是由多位熟悉亚裔文化背景的资深精神心理课专家同时担任对话嘉宾和解答问题，机会非常难得，请华裔家长同胞们不要错过。 \n特邀对话嘉宾： \n• Dr. Crystal Han\, Child\, adolescent and adult psychiatrist\, Harvard University Health Services\, Massachusetts General Hospital\n• Dr. Priya Punnoose\, Child and adolescent psychiatrist\, Children’s National Medical Center\n• Dr. Ronald Lee\, Child and adolescent psychiatrist\, Sheppard Pratt \n青少年心理健康亚太裔家长在线讨论会时间：2023年5月18日晚6-7点（美国时间） \n此讨论会使用英语，并需要提前注册。请点击下面的链接或扫描海报中的二维码注册，完成注册后将收到邮件发送的Zoom 链接和相关Zoom登录信息。同时，为了更有针对性的请专家们解答最受关注的问题，鼓励在注册时把您的问题提前告诉主办者。 \n注册链接：\nhttps://us06web.zoom.us/meeting/register/tZ0tdOygqzMuG9z96Izfp3YcaI8NPvI75KTR \n有问题咨询请致电240-658-9228大华府社区健康服务中心中文服务热线。 \n大华府华裔社区健康服务中心（Chinese American Community Health Services）是一个主要由义工运作的非营利社区组织（联邦税务局批准的501c3非营利机构），以致力于慈善及公益性社区健康服务为宗旨。欲了解我们活动和服务的更多信息、以及捐款和报名做义工，请登录浏览我们的网站：cachs.org。
URL:https://www.cachs.org/events/%e4%ba%9a%e5%a4%aa%e8%a3%94%e6%9c%88%e7%89%b9%e5%88%ab%e6%b4%bb%e5%8a%a8-%ef%bc%9a%e9%9d%92%e5%b0%91%e5%b9%b4%e5%bf%83%e7%90%86%e5%81%a5%e5%ba%b7%e4%ba%9a%e5%a4%aa%e8%a3%94%e5%ae%b6%e9%95%bf%e5%9c%a8/
LOCATION:MD
CATEGORIES:Panel Discussion for AAPI Parents
ATTACH;FMTTYPE=image/png:https://www.cachs.org/wp-content/uploads/2023/06/Untitled-600-×-450-px-7.png
END:VEVENT
BEGIN:VEVENT
DTSTART;TZID=UTC:20231018T200000
DTEND;TZID=UTC:20231018T210000
DTSTAMP:20260419T160549
CREATED:20231017T011659Z
LAST-MODIFIED:20231017T022301Z
UID:18861-1697659200-1697662800@www.cachs.org
SUMMARY:药物滥用预防宣传月特别在线讲座：止痛药使用的基本常识
DESCRIPTION:2023年10月18日星期三晚上8点，药物滥用预防宣传月将推出特别在线讲座—-止痛药使用的基本常识 \n本次讲座的主要内容有：\n1.   止痛药物基本介绍\n2.   止痛药物的种类\n3.   止痛药物与其它药物的相互作用\n4.   意外滥用可能导致的伤害 \n讲座将由美国公共卫生服务局华裔专家沈坤药剂学博士以中文主讲。沈坤毕业于马里兰大学，获药剂学博士学位，目前在国家健康研究院（NIH）任药剂学科学家，研究肿瘤学和传染病的早期药物开发，同时积极参与社区药剂调配设置，是泛亚义诊（PAVHC）的药剂师义工。 \n本次讲座由蒙郡卫生局亚裔美国人健康促进协会（AAHI）、大华府华裔社区健康服务中心（CACHS）、美国联邦公共卫生服务局（USPHS)、美京华人活动中心医疗中心（CCACC Health ）联合主办。 \n时间：2023年10月18日（周三）晚8点至9点 \nZoom 链接：\nhttps://us06web.zoom.us/j/89734526812?pwd=AUicx6RWtbE5d0IsPZepWDStr7sipm.1 \nMeeting ID: 897 3452 6812\nPasscode: 123456
URL:https://www.cachs.org/events/10-18-2023/
LOCATION:MD
END:VEVENT
BEGIN:VEVENT
DTSTART;TZID=UTC:20231029T140000
DTEND;TZID=UTC:20231029T170000
DTSTAMP:20260419T160549
CREATED:20231018T022510Z
LAST-MODIFIED:20231121T185426Z
UID:18887-1698588000-1698598800@www.cachs.org
SUMMARY:蒙郡华裔社区健康与资源服务日10月29日下午在马里兰德国镇举办
DESCRIPTION:大华府社区健康服务中心2023年度蒙郡华裔社区健康与资源服务日将于10月29日（周日）下午2-5点在德国镇（Germantown\, MD）举办，敬请蒙郡华裔同胞光临。地址：阳光保健养生中心，20420 Century Blvd\, Germantown\, MD 20874。 \n本次健康与资源服务日服务内容如下： \n针对无医保者的免费健康检查：之前已报名参加大华府社区健康服务中心公益健康检查并已完成去化验室抽血化验的社区居民，当天在健康服务日现场接受其它检查（血压，骨密度，听力检查，抑郁症筛查等）和华裔志愿者医生的义诊服务。之前没有报名的，我们也可以接受现场报名（需交$10报名费，此次公益健康检查唯一花费），然后安排其它现场检查及义诊咨询。免费血液化验将被安排在健康日之后。血液检查包括：CBC－血红蛋白、白血球及血小板计数； CMP－代谢功能， 包括肝功能、肾功能及血糖；Lipid Panel－血脂类，包括胆固醇分类、甘油三酯等；Hepatitis B－乙肝抗原及抗体检测；Hepatitis C－丙肝抗体检测等。 \n免费义诊咨询：将由多位本地华裔医生提供现场义诊咨询。目前已确认的有：全科医生（家庭医生）于涛医生、樊薇医生、蒙舟医生以及两位专科医生（何杰医生，内分泌科；邵晓平医生，身心科）。 \n中文健康讲座：由华裔药剂师主讲（主讲人：沈昆药剂学博士；Mandy Kwong药剂学博士）。题目是“疼痛治疗及纳洛酮使用培训”。讲座结束后将有免费纳洛酮发放。 \n健康保险咨询：将由多位本地华裔健康保险专家现场提供各种健康保险及Medicare（红蓝卡）申请方面的免费咨询服务。 \n公共服务资源及老年服务资讯台：蒙郡政府卫生局、郡政府其它相关部门及多家本地社区健康服务机构将在现场设资讯台。其中，蒙郡卫生局老年服务部将现场介绍蒙郡为老年居民提供的公共福利资源（包括介绍老年人助听设备项目等）。 \n关于此次健康与资源服务日的相关问题或寻求其它帮助，请拨打大华府社区健康服务中心中文服务热线电话：240-658-9228。本热线电话都提供中文普通话和广东话服务，也可以发中文短信联系。 \n大华府华裔社区健康服务中心 (Chinese American Community Health Services) 是一个目前主要由义工运作的非营利社区组织 (501c3 机构)，以致力于慈善及公益性社区健康服务为宗旨。如希望了解更多信息，以及如何捐款和加入义工，请登录浏览我们的网站：cachs.org。 \n（供稿：大华府华裔社区健康服务中心）
URL:https://www.cachs.org/events/10-29-2023/
LOCATION:阳光保健养生中心\, 700 Professional Dr.\, Gaithersburg\, MD\, 20879\, United States
ATTACH;FMTTYPE=image/jpeg:https://www.cachs.org/wp-content/uploads/2023/10/02f35feb-e3c4-4b5e-8d16-79409f20e130.jpg
END:VEVENT
BEGIN:VEVENT
DTSTART;TZID=UTC:20231130T190000
DTEND;TZID=UTC:20231130T190000
DTSTAMP:20260419T160549
CREATED:20231121T185403Z
LAST-MODIFIED:20231121T185446Z
UID:19205-1701370800-1701370800@www.cachs.org
SUMMARY:社区健康在线讲座预告：临终关怀和姑息疗护
DESCRIPTION:每年11月是美国的临终关怀和姑息疗护宣传月。为配合这个全国性的健康促进宣传活动，大华府社区健康服务中心和蒙郡亚裔美国人健康促进会（AAHI）联合举办临终关怀和姑息疗护专题讲座，题目是：临终关怀和姑息疗护 — 与亚裔美国社区的对话 (Hospice and Palliative Care: Conversation with the Asia American Community)。时间：2023年11月30日晚7时至8时。此讲座为在线英语讲座，由资深美国临终关怀执业护师主讲，大华府社区健康服务中心提供现场中文翻译。 \n  \n临终关怀和姑息疗护是许多人采纳的两种临终治疗和服务模式。临终关怀并不是一个地方，而是专注于关心、舒适和提高生活质量的人们，尤其是患有严重疾病且即将临终的人。姑息疗护将这种全面的关怀模式提前应用于患有严重疾病的人，通过关注生活质量来增强护理。由于近30%的亚裔美国人年龄超过55岁，对于亚裔社区而言，就临终关怀进行交流变得越来越重要。此外，在不是危机或紧急情况，例如亲人严重患病时，讨论临终关怀和姑息疗护可以为医疗护理的高级规划以及获取相关资源做准备。 \n  \n本次讲座的主讲人是资深临终关怀执业护师Tashi Taliaferro女士，她也是蒙郡姑息与临终关怀联盟的共同主席。在一个小时的讲座中，Taliaferro女士将介绍临终关怀和姑息疗护的基本概念和知识，以及相关的重要资源信息。机会难得，希望感兴趣的华裔同胞不要错过。 \n  \n在线讲座会议室链接信息： \n  \nJoin Zoom Meeting \nhttps://montgomerycountymd-gov.zoom.us/j/83280403520?pwd=WVI4WmZ3bnpBRzVOOElyRnpCUWl2dz09 \n  \nMeeting ID: 832 8040 3520 \nPasscode: 853126 \n  \n大华府社区健康服务中心 (Chinese American Community Health Services) 是主要由义工运作的非营利社区组织 (501c3 机构)，以致力于慈善及公益性社区健康服务为宗旨。如希望了解更多信息，以及如何捐款和加入义工，请登录浏览我们的网站：cachs.org。大华府社区健康服务中心中文帮助热线电话：240-658-9228，571-668-5836。提供普通话和广东话接听及中文短信回复服务。服务时间是每周周一至周日全部七天，每日早晨9点至晚上9点（其它时间可电话语音或短信留言）。 \n  \n（大华府社区健康服务中心供稿）
URL:https://www.cachs.org/events/11-30-2023/
LOCATION:MD
ATTACH;FMTTYPE=image/png:https://www.cachs.org/wp-content/uploads/2023/11/1130健康讲座海报.png
END:VEVENT
BEGIN:VEVENT
DTSTART;TZID=UTC:20241013T140000
DTEND;TZID=UTC:20241013T170000
DTSTAMP:20260419T160549
CREATED:20241002T215721Z
LAST-MODIFIED:20241007T025035Z
UID:20027-1728828000-1728838800@www.cachs.org
SUMMARY:大华府社区健康服务中心蒙郡健康服务日10月13日举办
DESCRIPTION:大华府社区健康服务中心2024年度蒙郡华裔社区健康与资源服务日将于10月13日（周日）下午2-5点在蒙哥马利郡盖瑟斯堡（Gaithersburg\, MD）举办，敬请蒙郡华裔同胞光临。地址：阳光保健养生中心，700 Professional Dr\, Gaithersburg\, MD 20879。 \n本次健康与资源服务日服务内容如下： \n针对无医保者的免费健康检查：之前已报名参加大华府社区健康服务中心公益健康检查并已完成去化验室抽血化验的社区居民，当天在健康服务日现场接受其它检查（血压，骨密度，听力检查，抑郁症筛查等）和华裔志愿者医生的义诊服务。尚未报名者，10月6日以前还可以继续报名，并在10月13日前完成免费抽血化验。报名链接：https://forms.gle/YEt5LvJxjbgCemz26。健康服务日当天也接受现场报名（需交$10报名费，此次公益健康检查唯一花费），然后安排其它现场检查及义诊咨询。免费血液化验将被安排在健康日之后。血液检查包括：CBC－血红蛋白、白血球及血小板计数； CMP－代谢功能， 包括肝功能、肾功能及血糖；Lipid Panel－血脂类，包括胆固醇分类、甘油三酯等；Hepatitis B－乙肝抗原及抗体检测；Hepatitis C－丙肝抗体检测等。 \n免费义诊咨询：将由多位本地华裔医生提供现场义诊咨询。全科医生（家庭医生）：于涛医生、樊薇医生、金冲飞医生；专科医生：何杰医生（内分泌暨糖尿病专科）、邵晓平医生（身心科）；牙医：王蕾医生（Dr. Lisa Wang）；护理医生（nurse practitioner）：王琼、邓海琴。 \n流感疫苗接种：有医疗保险者收保险，对无医保者免费。 \n青少年心理健康中文健康讲座： “ 健康心灵倡议（Healthy Mind Initiative）”，由美国公共卫生服务军官团华裔专家林颖博士和Jason Tu药剂学博士中文主讲。太多青少年正在为心理健康问题苦苦挣扎，并且无法获得他们所需要的支持。本次研讨会将为父母和照护者提供心理健康知识，帮助他们了解如何寻求专业支持和资源。引导父母和照护者理解青少年面临的心理健康挑战，包括心理疾病、药物滥用和自杀等，重点强调预防和早期发现。 \n健康保险咨询：将由多位本地华裔健康保险专家现场提供各种健康保险及Medicare（红蓝卡）申请方面的免费咨询服务。 \n公共服务资源及老年服务资讯台：蒙郡政府卫生局及多家本地社区健康服务机构将在现场设资讯及服务台。包括：蒙郡卫生局亚裔美国人健康促进会（AAHI），Health Betterment Initiative，美京华人活动中心医疗中心（CCACC Health Center），大华府韩裔社区服务中心(KCSC)，弗里德里克亚裔服务中心(AACF)，哈维郡亚美义诊中心（AAHC），美国公共卫生服务军官团亚太裔官员委员会（APAOC），American Diversity Group等。 \n关于此次健康与资源服务日的相关问题或寻求其它帮助，请拨打大华府社区健康服务中心中文服务热线电话：240-658-9228。本热线电话提供中文普通话和广东话服务，也可以发中文短信联系。 \n大华府社区健康服务中心 (Chinese American Community Health Services) 是一个目前主要由义工运作的非营利社区组织 (501c3 机构)，以致力于慈善及公益性社区健康服务为宗旨。如希望了解更多信息，以及如何捐款和加入义工，请登录浏览我们的网站：cachs.org。 \n（供稿：大华府社区健康服务中心）
URL:https://www.cachs.org/events/10-02-2024/
LOCATION:阳光保健养生中心\, 700 Professional Dr.\, Gaithersburg\, MD\, 20879\, United States
ATTACH;FMTTYPE=image/jpeg:https://www.cachs.org/wp-content/uploads/2024/10/WechatIMG5-scaled.jpg
END:VEVENT
END:VCALENDAR